BEGIN:VCALENDAR
VERSION:2.0
PRODID:-//goWALCO - ECPv6.15.20//NONSGML v1.0//EN
CALSCALE:GREGORIAN
METHOD:PUBLISH
X-WR-CALNAME:goWALCO
X-ORIGINAL-URL:https://advertise.gowalco.com
X-WR-CALDESC:Events for goWALCO
REFRESH-INTERVAL;VALUE=DURATION:PT1H
X-Robots-Tag:noindex
X-PUBLISHED-TTL:PT1H
BEGIN:VTIMEZONE
TZID:America/Chicago
BEGIN:DAYLIGHT
TZOFFSETFROM:-0600
TZOFFSETTO:-0500
TZNAME:CDT
DTSTART:20240310T080000
END:DAYLIGHT
BEGIN:STANDARD
TZOFFSETFROM:-0500
TZOFFSETTO:-0600
TZNAME:CST
DTSTART:20241103T070000
END:STANDARD
BEGIN:DAYLIGHT
TZOFFSETFROM:-0600
TZOFFSETTO:-0500
TZNAME:CDT
DTSTART:20250309T080000
END:DAYLIGHT
BEGIN:STANDARD
TZOFFSETFROM:-0500
TZOFFSETTO:-0600
TZNAME:CST
DTSTART:20251102T070000
END:STANDARD
BEGIN:DAYLIGHT
TZOFFSETFROM:-0600
TZOFFSETTO:-0500
TZNAME:CDT
DTSTART:20260308T080000
END:DAYLIGHT
BEGIN:STANDARD
TZOFFSETFROM:-0500
TZOFFSETTO:-0600
TZNAME:CST
DTSTART:20261101T070000
END:STANDARD
END:VTIMEZONE
BEGIN:VEVENT
DTSTART;TZID=America/Chicago:20251205T000000
DTEND;TZID=America/Chicago:20251205T235959
DTSTAMP:20260424T071208
CREATED:20250808T134118Z
LAST-MODIFIED:20250808T134123Z
UID:10001450-1764892800-1764979199@advertise.gowalco.com
SUMMARY:Downtown Whitewater's Annual Parade of Lights
DESCRIPTION:Elkhorn Oktoberfest\n\n\n \n\n\n\n\n\n\n\n\n\n \n\n\n\nSave the Date for Downtown Whitewater’s Annual Parade of Lights. Details to come!
URL:https://advertise.gowalco.com/event/downtown-whitewaters-annual-parade-of-lights/
LOCATION:Downtown Whitewater\, 150 W Main St\, Whitewater\, Wisconsin\, 531920\, United States
ATTACH;FMTTYPE=image/jpeg:https://advertise.gowalco.com/wp-content/uploads/paradeoflights.jpg
END:VEVENT
BEGIN:VEVENT
DTSTART;TZID=America/Chicago:20251205T170000
DTEND;TZID=America/Chicago:20251205T200000
DTSTAMP:20260424T071208
CREATED:20250917T192603Z
LAST-MODIFIED:20251105T203652Z
UID:10001459-1764954000-1764964800@advertise.gowalco.com
SUMMARY:Sharon's Victorian Christmas Evening
DESCRIPTION:Step back in time and celebrate the holiday season in the Village of Sharon at Victorian Christmas Evening. Enjoy an enchanting night filled with shopping\, photos with Santa\, a festive Santa’s Village for all ages\, live entertainment\, delicious treats like kettle corn\, raffles\, and the cherished tree lighting ceremony. \n\n\n\nThe evening concludes with the spectacular horse-drawn lighted Christmas parade—a community tradition that captures the spirit of the season.
URL:https://advertise.gowalco.com/event/sharon-victorian-christmas/
LOCATION:Sharon\, Wisconsin\, Sharon\, Wisconsin\, 53585
ATTACH;FMTTYPE=image/jpeg:https://advertise.gowalco.com/wp-content/uploads/SharonVictorianChristmas.jpg
ORGANIZER;CN="Sharon Chamber of Commerce":MAILTO:info@sharonchamberofcommerce.com
END:VEVENT
BEGIN:VEVENT
DTSTART;TZID=America/Chicago:20251205T190000
DTEND;TZID=America/Chicago:20251206T220000
DTSTAMP:20260424T071208
CREATED:20250508T164920Z
LAST-MODIFIED:20250508T164927Z
UID:10001413-1764961200-1765058400@advertise.gowalco.com
SUMMARY:Christmas at Cravath 2025
DESCRIPTION:The City of Whitewater is thrilled to celebrate the success of this year’s Christmas at Cravath lighting event\, which brought holiday cheer to the community through an enchanting display of lights and decorations at Cravath Lakefront Park.
URL:https://advertise.gowalco.com/event/christmas-at-cravath-2025/
LOCATION:Cravath Lakefront Park\, 341 S Fremont St\, Whitewater\, Wisconsin\, 53190\, United States
ATTACH;FMTTYPE=image/jpeg:https://advertise.gowalco.com/wp-content/uploads/cravath-2025.jpg
END:VEVENT
BEGIN:VEVENT
DTSTART;TZID=America/Chicago:20251206T133000
DTEND;TZID=America/Chicago:20251206T153000
DTSTAMP:20260424T071208
CREATED:20250117T013350Z
LAST-MODIFIED:20251105T202751Z
UID:10001384-1765027800-1765035000@advertise.gowalco.com
SUMMARY:Annual Christmas Card Town Parade
DESCRIPTION:Elkhorn Oktoberfest\n\n\n\n \n\n\nBundle up the family and grab a spot downtown to watch the Annual Christmas Card Town Parade. Many line up to see the Christmas decorated floats\, novelty acts\, music\, animals\, and of course\, Santa and Mrs. Claus. \n\n\n\n\n\n\n\n\n\n\n\n\n\nDetails\n\n\nElkhorn Oktoberfest\n\n\n\n\n\n\nOrganizer\n\n\n\nElkhorn Area Chamber of CommerceCall NowWebsite \n\n\n\n\n\nVenue\n\n\n\nDowntown ElkhornElkhorn\, WI 53121
URL:https://advertise.gowalco.com/event/annual-christmas-card-town-parade/
LOCATION:Wisconsin
ATTACH;FMTTYPE=image/jpeg:https://advertise.gowalco.com/wp-content/uploads/ElkhornChristmasCardtown-1.jpg
END:VEVENT
BEGIN:VEVENT
DTSTART;TZID=America/Chicago:20251206T170000
DTEND;TZID=America/Chicago:20251206T170000
DTSTAMP:20260424T071208
CREATED:20250117T010140Z
LAST-MODIFIED:20250117T010143Z
UID:10000096-1765040400-1765040400@advertise.gowalco.com
SUMMARY:50th Annual Lake Geneva Electric Christmas Parade
DESCRIPTION:Elkhorn Oktoberfest\n\n\n\n \n\n\nVISIT Lake Geneva is proud to present the 50th Annual Electric Christmas Parade on Saturday\, December 6\, 2025. Join us for a joyful celebration of the season as this colorful\, light-filled parade moves down Broad and Main Streets in Downtown Lake Geneva! \n\n\n\n\n\n\n\n\n\n\n\n\n\nDetails\n\n\nElkhorn Oktoberfest\n\n\n\n\n\n\nOrganizer\n\n\n\nLake GenevaCall NowWebsite \n\n\n\n\n\nVenue\n\n\n\n201 Wrigley Dr201 Wrigley Dr\, Lake Geneva\, WI
URL:https://advertise.gowalco.com/event/50th-annual-lake-geneva-electric-christmas-parade/
LOCATION:Wisconsin
ATTACH;FMTTYPE=image/jpeg:https://advertise.gowalco.com/wp-content/uploads/LGChristmasParade.jpg
END:VEVENT
BEGIN:VEVENT
DTSTART;TZID=America/Chicago:20251206T170000
DTEND;TZID=America/Chicago:20251206T190000
DTSTAMP:20260424T071208
CREATED:20250808T135032Z
LAST-MODIFIED:20250808T135035Z
UID:10001451-1765040400-1765047600@advertise.gowalco.com
SUMMARY:East Troy Santa Parade Train\, Santa on Village Square
DESCRIPTION:Elkhorn Oktoberfest\n\n\n \n\n\n\n\n\n\n\n\n\nJoin us for a holiday tradition dating back to 1972! The parade train departs the Elegant Farmer at 5:00pm and arrives at approximately 6:30pm in East Troy.The parade train is for viewing at each stop — the parade train does not carry public passengers. \n\n\n\nApproximate Schedule:Depart Elegant Farmer @ 5:00pmStops at:Army Lake Rd North (5 min) @ 5:25 pmArmy Lake Rd South (5 min) @ 5:42 pmSt Peters Rd (5 min) @ 5:56 pmByrnes St (5 min) @ 6:13 pmDivision St (5 min) @ 6:25 pm6:30 pm Santa arrives at East Troy Village Square Parkvia East Troy Fire Department truck to light theBob Barutha Memorial Christmas Tree & debut of East Troy Lights
URL:https://advertise.gowalco.com/event/east-troy-santa-parade-train-2025/
LOCATION:Elegant Farmer\, 1545 Main St\, Mukwonago\, Wisconsin\, 53149\, United States
ATTACH;FMTTYPE=image/jpeg:https://advertise.gowalco.com/wp-content/uploads/santaparade.jpg
END:VEVENT
BEGIN:VEVENT
DTSTART;TZID=America/Chicago:20251207T190000
DTEND;TZID=America/Chicago:20251231T210000
DTSTAMP:20260424T071208
CREATED:20250808T135550Z
LAST-MODIFIED:20250808T135552Z
UID:10001452-1765134000-1767214800@advertise.gowalco.com
SUMMARY:East Troy Lights
DESCRIPTION:Elkhorn Oktoberfest\n\n\n \n\n\n\n\n\n\n\n\n\nA spectacular interactive light show (utilizing cutting-edge technology produced by the East Troy Area Chamber of Commerce\, a 501 (c) 6 non-proﬁt organization\, and Dither Studio\, along with Allan ICS and the East Troy Community School District.
URL:https://advertise.gowalco.com/event/east-troy-lights-2/
LOCATION:Downtown East Troy\, East Troy\, Wisconsin\, United States
ATTACH;FMTTYPE=image/jpeg:https://advertise.gowalco.com/wp-content/uploads/East_Troy_Lights_edit2.jpg
END:VEVENT
END:VCALENDAR