BEGIN:VCALENDAR
VERSION:2.0
PRODID:-//goWALCO - ECPv6.15.20//NONSGML v1.0//EN
CALSCALE:GREGORIAN
METHOD:PUBLISH
X-ORIGINAL-URL:https://advertise.gowalco.com
X-WR-CALDESC:Events for goWALCO
REFRESH-INTERVAL;VALUE=DURATION:PT1H
X-Robots-Tag:noindex
X-PUBLISHED-TTL:PT1H
BEGIN:VTIMEZONE
TZID:America/Chicago
BEGIN:DAYLIGHT
TZOFFSETFROM:-0600
TZOFFSETTO:-0500
TZNAME:CDT
DTSTART:20250309T080000
END:DAYLIGHT
BEGIN:STANDARD
TZOFFSETFROM:-0500
TZOFFSETTO:-0600
TZNAME:CST
DTSTART:20251102T070000
END:STANDARD
BEGIN:DAYLIGHT
TZOFFSETFROM:-0600
TZOFFSETTO:-0500
TZNAME:CDT
DTSTART:20260308T080000
END:DAYLIGHT
BEGIN:STANDARD
TZOFFSETFROM:-0500
TZOFFSETTO:-0600
TZNAME:CST
DTSTART:20261101T070000
END:STANDARD
BEGIN:DAYLIGHT
TZOFFSETFROM:-0600
TZOFFSETTO:-0500
TZNAME:CDT
DTSTART:20270314T080000
END:DAYLIGHT
BEGIN:STANDARD
TZOFFSETFROM:-0500
TZOFFSETTO:-0600
TZNAME:CST
DTSTART:20271107T070000
END:STANDARD
END:VTIMEZONE
BEGIN:VEVENT
DTSTART;TZID=America/Chicago:20260125T110000
DTEND;TZID=America/Chicago:20260125T140000
DTSTAMP:20260424T022529
CREATED:20260119T215018Z
LAST-MODIFIED:20260119T215023Z
UID:10001464-1769338800-1769349600@advertise.gowalco.com
SUMMARY:Walworth County Pro/Am Culinary Showdown
DESCRIPTION:Join WCEDA for their 2nd annual Walworth County Culinary Showdown\, featuring teams of Walworth County high school culinary students and professional chefs! \n\n\n\nThis year’s Pro/Am Culinary Showdown is going global! \n\n\n\nHigh school culinary stars are teaming up with local pro chefs to create their best dish — inspired by Germany\, Italy\, Thailand\, France\, and Morocco.
URL:https://advertise.gowalco.com/event/walworth-county-pro-am-culinary-showdown/
LOCATION:Lake Lawn Resort\, 2400 E Geneva St\, Delavan\, WI\, 53115\, United States
ATTACH;FMTTYPE=image/jpeg:https://advertise.gowalco.com/wp-content/uploads/WCEDA-2026-Around-the-World-Logo_V2.jpg
ORGANIZER;CN="Walworth County Economic Development Alliance":MAILTO:info@walworthbusiness.com
END:VEVENT
BEGIN:VEVENT
DTSTART;TZID=America/Chicago:20260128T000000
DTEND;TZID=America/Chicago:20260201T235959
DTSTAMP:20260424T022529
CREATED:20260119T220418Z
LAST-MODIFIED:20260119T220424Z
UID:10001466-1769558400-1769990399@advertise.gowalco.com
SUMMARY:Lake Geneva Winterfest
DESCRIPTION:VISIT Lake Geneva and the City of Lake Geneva proudly welcome you to the 31st Annual Winterfest\, presented by Discover Wisconsin\, January 28 through February 1\, 2026. Lake Geneva Winterfest is home to America’s Snow Sculpting Invitational\, where 15 of the most talented artists from around the U.S. and abroad will participate in an epic competition of skill and artistry. \n\n\n\nLake Geneva Winterfest is FREE to attend and view\, and sculptures will remain on display through Sunday (and until they melt). \n\n\n\nYou’ll also enjoy more wintery fun throughout Lake Geneva Winterfest\, including the Downtown Ice Sculpture Walk\, Bonfires on the Beach\, live entertainment\, and more!
URL:https://advertise.gowalco.com/event/lake-geneva-winterfest-3/
LOCATION:Riviera Plaza & Flat Iron Park\, 812 Wrigley Dr\, Lake Geneva\, Wisconsin\, 53147
ATTACH;FMTTYPE=image/png:https://advertise.gowalco.com/wp-content/uploads/LG.Winterfest.2026-LOGO.png
ORGANIZER;CN="VISIT Lake Geneva":MAILTO:info@visitlakegeneva.com
END:VEVENT
END:VCALENDAR