BEGIN:VCALENDAR
VERSION:2.0
PRODID:-//goWALCO - ECPv6.15.20//NONSGML v1.0//EN
CALSCALE:GREGORIAN
METHOD:PUBLISH
X-ORIGINAL-URL:https://advertise.gowalco.com
X-WR-CALDESC:Events for goWALCO
REFRESH-INTERVAL;VALUE=DURATION:PT1H
X-Robots-Tag:noindex
X-PUBLISHED-TTL:PT1H
BEGIN:VTIMEZONE
TZID:America/Chicago
BEGIN:DAYLIGHT
TZOFFSETFROM:-0600
TZOFFSETTO:-0500
TZNAME:CDT
DTSTART:20250309T080000
END:DAYLIGHT
BEGIN:STANDARD
TZOFFSETFROM:-0500
TZOFFSETTO:-0600
TZNAME:CST
DTSTART:20251102T070000
END:STANDARD
BEGIN:DAYLIGHT
TZOFFSETFROM:-0600
TZOFFSETTO:-0500
TZNAME:CDT
DTSTART:20260308T080000
END:DAYLIGHT
BEGIN:STANDARD
TZOFFSETFROM:-0500
TZOFFSETTO:-0600
TZNAME:CST
DTSTART:20261101T070000
END:STANDARD
BEGIN:DAYLIGHT
TZOFFSETFROM:-0600
TZOFFSETTO:-0500
TZNAME:CDT
DTSTART:20270314T080000
END:DAYLIGHT
BEGIN:STANDARD
TZOFFSETFROM:-0500
TZOFFSETTO:-0600
TZNAME:CST
DTSTART:20271107T070000
END:STANDARD
END:VTIMEZONE
BEGIN:VEVENT
DTSTART;TZID=America/Chicago:20260819T000000
DTEND;TZID=America/Chicago:20260823T235959
DTSTAMP:20260424T021839
CREATED:20260119T230151Z
LAST-MODIFIED:20260119T230156Z
UID:10001470-1787097600-1787529599@advertise.gowalco.com
SUMMARY:Venetian Festival
DESCRIPTION:Venetian Festival features a weekend of great family entertainment including a craft fair\, carnival\, water ski show\, festival food and a beer tent featuring live music. This is all capped off on Sunday with a traditional Venetian Style lighted boat parade followed by the area’s largest fireworks display over Geneva Lake. \n\n\n\nThe five-day Festival runs from August 13th-17th and takes place at Flat Iron\, Library\, and Seminary Parks in picturesque downtown Lake Geneva.
URL:https://advertise.gowalco.com/event/lake-geneva-venetian-festival/
LOCATION:Flat Iron\, Libary & Seminary Parks\, 201 Wrigley Dr\, Lake Geneva\, Wisconsin\, 53147
ATTACH;FMTTYPE=image/png:https://advertise.gowalco.com/wp-content/uploads/VenetianFestival-Logo-01-1.png
ORGANIZER;CN="Lake Geneva Jaycees":MAILTO:info@lakegenevajaycees.org
END:VEVENT
END:VCALENDAR