BEGIN:VCALENDAR
VERSION:2.0
PRODID:-//goWALCO - ECPv6.15.20//NONSGML v1.0//EN
CALSCALE:GREGORIAN
METHOD:PUBLISH
X-WR-CALNAME:goWALCO
X-ORIGINAL-URL:https://advertise.gowalco.com
X-WR-CALDESC:Events for goWALCO
REFRESH-INTERVAL;VALUE=DURATION:PT1H
X-Robots-Tag:noindex
X-PUBLISHED-TTL:PT1H
BEGIN:VTIMEZONE
TZID:America/Chicago
BEGIN:DAYLIGHT
TZOFFSETFROM:-0600
TZOFFSETTO:-0500
TZNAME:CDT
DTSTART:20250309T080000
END:DAYLIGHT
BEGIN:STANDARD
TZOFFSETFROM:-0500
TZOFFSETTO:-0600
TZNAME:CST
DTSTART:20251102T070000
END:STANDARD
BEGIN:DAYLIGHT
TZOFFSETFROM:-0600
TZOFFSETTO:-0500
TZNAME:CDT
DTSTART:20260308T080000
END:DAYLIGHT
BEGIN:STANDARD
TZOFFSETFROM:-0500
TZOFFSETTO:-0600
TZNAME:CST
DTSTART:20261101T070000
END:STANDARD
BEGIN:DAYLIGHT
TZOFFSETFROM:-0600
TZOFFSETTO:-0500
TZNAME:CDT
DTSTART:20270314T080000
END:DAYLIGHT
BEGIN:STANDARD
TZOFFSETFROM:-0500
TZOFFSETTO:-0600
TZNAME:CST
DTSTART:20271107T070000
END:STANDARD
END:VTIMEZONE
BEGIN:VEVENT
DTSTART;TZID=America/Chicago:20260715T000000
DTEND;TZID=America/Chicago:20260719T235959
DTSTAMP:20260424T040031
CREATED:20260119T223502Z
LAST-MODIFIED:20260119T223507Z
UID:10001468-1784073600-1784505599@advertise.gowalco.com
SUMMARY:Elkhorn Ribfest
DESCRIPTION:Come join us for five days of unbelievably delicious\, mouthwatering barbecue and high quality entertainment located on the beautiful Walworth County Fairgrounds. \n\n\n\nThis event features world renowned professional BBQ champions\, a back yard grillers competition\, great entertainment\, an artisan village and so much more. Not only will you experience some of the best BBQ in the world\, but there will be other fun enriching experiences. \n\n\n\nAfter you have had your fill of food\, kick back and enjoy some live music and a cold beer or two. And don’t forget about the carnival rides!
URL:https://advertise.gowalco.com/event/elkhorn-ribfest-at-the-walworth-county-fairgrounds/
LOCATION:Walworth County Fairgrounds\, 411 E Court St\, Elkhorn\, WI\, 53121\, United States
ATTACH;FMTTYPE=image/jpeg:https://advertise.gowalco.com/wp-content/uploads/Ribfest2026.jpg
END:VEVENT
BEGIN:VEVENT
DTSTART;TZID=America/Chicago:20260902T000000
DTEND;TZID=America/Chicago:20260907T235959
DTSTAMP:20260424T040031
CREATED:20260119T232010Z
LAST-MODIFIED:20260119T232015Z
UID:10001471-1788307200-1788825599@advertise.gowalco.com
SUMMARY:Walworth County Fair
DESCRIPTION:The Walworth County Fair in Elkhorn\, Wisconsin\, is one of Wisconsin’s largest and oldest county fairs. Offering a classic summer finale with livestock shows\, carnival rides\, grandstand events\, agricultural exhibits\, crafts\, and beloved fair food all on the historic 99-acre grounds. \n\n\n\nFor the 177th year\, the Walworth County Fair will dazzle with the theme “Glitter and Gold: A Fair to Behold.” This theme celebrates not only the timeless sparkle and magic of the Fair itself but also has a nod to honor a milestone moment: the 60th Anniversary of the Fairest of the Fair contest. \n\n\n\nSee the website for general admission and special event tickets.
URL:https://advertise.gowalco.com/event/walworth-county-fair/
LOCATION:Walworth County Fairgrounds\, 411 E Court St\, Elkhorn\, WI\, 53121\, United States
ATTACH;FMTTYPE=image/jpeg:https://advertise.gowalco.com/wp-content/uploads/2026_Fair_Logo_jpg.jpg
END:VEVENT
END:VCALENDAR